BEGIN:VCALENDAR
METHOD:PUBLISH
VERSION:2.0
CALSCALE:GREGORIAN
PRODID:-//NONSGML WPForms//NONSGML Sugar Calendar Feeds v3.11.0//EN
X-WR-CALNAME:Celebration of Women Luncheon
X-WR-CALDESC:Home of the Sparrow
X-WR-TIMEZONE:America/Chicago
BEGIN:VTIMEZONE
TZID:America/Chicago
BEGIN:STANDARD
TZOFFSETFROM:-0500
TZOFFSETTO:-0600
DTSTART:20241103T070000
TZNAME:CST
END:STANDARD
END:VTIMEZONE
BEGIN:VTIMEZONE
TZID:America/Chicago
BEGIN:STANDARD
TZOFFSETFROM:-0500
TZOFFSETTO:-0600
DTSTART:20241103T070000
TZNAME:CST
END:STANDARD
END:VTIMEZONE
BEGIN:VEVENT
SUMMARY:Celebration of Women Luncheon
DESCRIPTION:Please join us for an afternoon of celebration\, games\, awa
 rds\, spectacular food\, and friendship.\n\nClick here to register!
URL;VALUE=URI:https://hosparrow.org/events/celebration-of-women-luncheon
 /
UID:urn:uuid:2b909eaa-8c83-4db1-90a1-db570b429915
STATUS:CONFIRMED
ORGANIZER:
DTSTAMP:20260420T084522Z
DTSTART;VALUE=DATE:20250307
LOCATION:Boulder Ridge Country Club\, 350 Boulder Dr\, Lake in the Hills
 \, IL\, 60156
END:VEVENT
END:VCALENDAR